BEGIN:VCALENDAR
VERSION:2.0
PRODID:-//Clown Willi - ECPv5.2.1.1//NONSGML v1.0//EN
CALSCALE:GREGORIAN
METHOD:PUBLISH
X-WR-CALNAME:Clown Willi
X-ORIGINAL-URL:https://clownwilli.ch
X-WR-CALDESC:Veranstaltungen für Clown Willi
BEGIN:VTIMEZONE
TZID:UTC
BEGIN:STANDARD
TZOFFSETFROM:+0000
TZOFFSETTO:+0000
TZNAME:UTC
DTSTART:20180101T000000
END:STANDARD
END:VTIMEZONE
BEGIN:VEVENT
DTSTART;VALUE=DATE:20181012
DTEND;VALUE=DATE:20181013
DTSTAMP:20260421T213223
CREATED:20180416T160457Z
LAST-MODIFIED:20180416T161705Z
UID:241-1539302400-1539388799@clownwilli.ch
SUMMARY:Comedy Abschlussproduktion in Zürich
DESCRIPTION:Karten Ab Sommer
URL:https://clownwilli.ch/event/comedy-abschlussproduktion-2/
LOCATION:Keller 62\, Rämistr.62\,\, Zürich\, 8001\, Schweiz
ATTACH;FMTTYPE=image/jpeg:https://clownwilli.ch/wp-content/uploads/2018/04/IMG_4395.jpg
END:VEVENT
END:VCALENDAR