BEGIN:VCALENDAR
VERSION:2.0
PRODID:-//Clown Willi - ECPv5.2.1.1//NONSGML v1.0//EN
CALSCALE:GREGORIAN
METHOD:PUBLISH
X-WR-CALNAME:Clown Willi
X-ORIGINAL-URL:https://clownwilli.ch
X-WR-CALDESC:Veranstaltungen für Clown Willi
BEGIN:VTIMEZONE
TZID:UTC
BEGIN:STANDARD
TZOFFSETFROM:+0000
TZOFFSETTO:+0000
TZNAME:UTC
DTSTART:20180101T000000
END:STANDARD
END:VTIMEZONE
BEGIN:VEVENT
DTSTART;VALUE=DATE:20181013
DTEND;VALUE=DATE:20181014
DTSTAMP:20260421T212811
CREATED:20180416T160648Z
LAST-MODIFIED:20180416T161645Z
UID:245-1539388800-1539475199@clownwilli.ch
SUMMARY:Comedy Abschlussproduktion in Friedrichshafen
DESCRIPTION:Karten Ab Sommer
URL:https://clownwilli.ch/event/comedy-abschlussproduktion-3/
LOCATION:Kulturhaus Caserne\, Fallenbrunnen 17\, Friedrichshafen\, 88045\, Deutschland
ATTACH;FMTTYPE=image/jpeg:https://clownwilli.ch/wp-content/uploads/2018/04/IMG_4395.jpg
END:VEVENT
END:VCALENDAR