BEGIN:VCALENDAR
VERSION:2.0
PRODID:-//Clown Willi - ECPv5.2.1.1//NONSGML v1.0//EN
CALSCALE:GREGORIAN
METHOD:PUBLISH
X-WR-CALNAME:Clown Willi
X-ORIGINAL-URL:https://clownwilli.ch
X-WR-CALDESC:Veranstaltungen für Clown Willi
BEGIN:VTIMEZONE
TZID:UTC
BEGIN:STANDARD
TZOFFSETFROM:+0000
TZOFFSETTO:+0000
TZNAME:UTC
DTSTART:20180101T000000
END:STANDARD
END:VTIMEZONE
BEGIN:VEVENT
DTSTART;VALUE=DATE:20181026
DTEND;VALUE=DATE:20181027
DTSTAMP:20260421T213235
CREATED:20180416T161331Z
LAST-MODIFIED:20180416T161548Z
UID:254-1540512000-1540598399@clownwilli.ch
SUMMARY:Comedy Abschlussproduktion in Tübingen
DESCRIPTION:Karten ab Sommer
URL:https://clownwilli.ch/event/comedy-abschlussproduktion-5/
LOCATION:Sudhaus e.V. Tübingen\, Hechinger Straße 203\, Tübingen\, 72072\, Deutschland
ATTACH;FMTTYPE=image/jpeg:https://clownwilli.ch/wp-content/uploads/2018/04/IMG_4395.jpg
END:VEVENT
END:VCALENDAR