BEGIN:VCALENDAR
VERSION:2.0
PRODID:-//Clown Willi - ECPv5.2.1.1//NONSGML v1.0//EN
CALSCALE:GREGORIAN
METHOD:PUBLISH
X-WR-CALNAME:Clown Willi
X-ORIGINAL-URL:https://clownwilli.ch
X-WR-CALDESC:Veranstaltungen für Clown Willi
BEGIN:VTIMEZONE
TZID:Europe/Helsinki
BEGIN:DAYLIGHT
TZOFFSETFROM:+0200
TZOFFSETTO:+0300
TZNAME:EEST
DTSTART:20180325T010000
END:DAYLIGHT
BEGIN:STANDARD
TZOFFSETFROM:+0300
TZOFFSETTO:+0200
TZNAME:EET
DTSTART:20181028T010000
END:STANDARD
END:VTIMEZONE
BEGIN:VEVENT
DTSTART;TZID=Europe/Helsinki:20181110T120000
DTEND;TZID=Europe/Helsinki:20181110T140000
DTSTAMP:20260421T213052
CREATED:20180903T190505Z
LAST-MODIFIED:20180903T190850Z
UID:532-1541851200-1541858400@clownwilli.ch
SUMMARY:Herbstmesse Ebnat-Kappel
DESCRIPTION:Comedy Duo Röhrich unterwegs auf der Herbstmesse Ebnet-Kappel
URL:https://clownwilli.ch/event/herbstmesse-ebnat-kappel/
LOCATION:Schafbüchel Turnhalle\, Schafbüchelstrasse 9\, Ebnat-Kappel\, 9642\, Schweiz
ATTACH;FMTTYPE=image/jpeg:https://clownwilli.ch/wp-content/uploads/2018/04/IMG_7767.jpg
END:VEVENT
END:VCALENDAR