BEGIN:VCALENDAR
VERSION:2.0
PRODID:-//Clown Willi - ECPv5.2.1.1//NONSGML v1.0//EN
CALSCALE:GREGORIAN
METHOD:PUBLISH
X-WR-CALNAME:Clown Willi
X-ORIGINAL-URL:https://clownwilli.ch
X-WR-CALDESC:Veranstaltungen für Clown Willi
BEGIN:VTIMEZONE
TZID:Europe/Helsinki
BEGIN:DAYLIGHT
TZOFFSETFROM:+0200
TZOFFSETTO:+0300
TZNAME:EEST
DTSTART:20180325T010000
END:DAYLIGHT
BEGIN:STANDARD
TZOFFSETFROM:+0300
TZOFFSETTO:+0200
TZNAME:EET
DTSTART:20181028T010000
END:STANDARD
END:VTIMEZONE
BEGIN:VEVENT
DTSTART;TZID=Europe/Helsinki:20181215T133000
DTEND;TZID=Europe/Helsinki:20181215T173000
DTSTAMP:20260421T210454
CREATED:20181206T093818Z
LAST-MODIFIED:20181206T093818Z
UID:610-1544880600-1544895000@clownwilli.ch
SUMMARY:Kibum- Ulm
DESCRIPTION:Willi und Rösli auf der Showbühne im Blautal- Center \n  \n\niPhone\, iPad\, Smartphone\, Laptop\, Handy\, Computer\, Nintendo\, Wii\, Spielekonsole… Ladekabelsaaaalllllaaaattttt. Die Clowns sind völlig durcheinander und versinken im Chaos. Doch dann in diesem Wirrwarr finden sie ein vergessenes schön eingepacktes Geschenk. Die Freude und Spannung ist groß\, es wird sich gezankt und jeder möchte das schöne Geschenk für sich allein und es auspacken. Im Streit zerreißt das Papier…und: Was ist das? Erstaunt schauen sie sich das zum Vorschein gekommene Objekt an. Es ist bunt\, aus Pappe und Papier. Was kann man damit machen? Und wo scrolle ich vor und zurück? Kann ich damit simsen? Twittern? W-Lan? Instagram? Fragen über Fragen\, doch die Neugier steigt und einer der Clowns beschäftigt sich intensiver und versinkt in der Welt des…
URL:https://clownwilli.ch/event/kibum-ulm-3/
LOCATION:Blautal-Center Ulm\, Blaubeuererstrasse 95\, Ulm\, 89077\, Deutschland
ATTACH;FMTTYPE=image/jpeg:https://clownwilli.ch/wp-content/uploads/2018/04/IMG_7337.jpg
END:VEVENT
END:VCALENDAR