BEGIN:VCALENDAR
VERSION:2.0
PRODID:-//Clown Willi - ECPv5.2.1.1//NONSGML v1.0//EN
CALSCALE:GREGORIAN
METHOD:PUBLISH
X-WR-CALNAME:Clown Willi
X-ORIGINAL-URL:https://clownwilli.ch
X-WR-CALDESC:Veranstaltungen für Clown Willi
BEGIN:VTIMEZONE
TZID:Europe/Helsinki
BEGIN:DAYLIGHT
TZOFFSETFROM:+0200
TZOFFSETTO:+0300
TZNAME:EEST
DTSTART:20180325T010000
END:DAYLIGHT
BEGIN:STANDARD
TZOFFSETFROM:+0300
TZOFFSETTO:+0200
TZNAME:EET
DTSTART:20181028T010000
END:STANDARD
END:VTIMEZONE
BEGIN:VEVENT
DTSTART;TZID=Europe/Helsinki:20181217T200000
DTEND;TZID=Europe/Helsinki:20181217T220000
DTSTAMP:20260421T193133
CREATED:20181206T094526Z
LAST-MODIFIED:20181206T094526Z
UID:613-1545076800-1545084000@clownwilli.ch
SUMMARY:Open- Stage Ulm
DESCRIPTION:Willi und Rösli mit einem Ausschnitt aus dem neuen Programm \n„Kabelsalat“
URL:https://clownwilli.ch/event/open-stage-ulm/
LOCATION:Roxy Ulm\, Schillerstrasse 12\, Ulm\, 89077\, Deutschland
ATTACH;FMTTYPE=image/jpeg:https://clownwilli.ch/wp-content/uploads/2018/04/IMG_7333.jpg
END:VEVENT
END:VCALENDAR