BEGIN:VCALENDAR
VERSION:2.0
PRODID:-//Clown Willi - ECPv5.2.1.1//NONSGML v1.0//EN
CALSCALE:GREGORIAN
METHOD:PUBLISH
X-WR-CALNAME:Clown Willi
X-ORIGINAL-URL:https://clownwilli.ch
X-WR-CALDESC:Veranstaltungen für Clown Willi
BEGIN:VTIMEZONE
TZID:Europe/Helsinki
BEGIN:DAYLIGHT
TZOFFSETFROM:+0200
TZOFFSETTO:+0300
TZNAME:EEST
DTSTART:20190331T010000
END:DAYLIGHT
BEGIN:STANDARD
TZOFFSETFROM:+0300
TZOFFSETTO:+0200
TZNAME:EET
DTSTART:20191027T010000
END:STANDARD
END:VTIMEZONE
BEGIN:VEVENT
DTSTART;TZID=Europe/Helsinki:20190113T110000
DTEND;TZID=Europe/Helsinki:20190113T120000
DTSTAMP:20260421T210004
CREATED:20181206T100447Z
LAST-MODIFIED:20181206T100447Z
UID:634-1547377200-1547380800@clownwilli.ch
SUMMARY:Willi und Rösli "Kabelsalat"
DESCRIPTION:Willi\, der Puppenspieler\, der einsam und allein in seiner Werkstatt lebte\, ihr erinnert euch\, hat nun endlich sein Rösli. Sie wohnen in einer kleinen\, schnuckeligen Wohnung\, und alles könnte so schön sein\, wenn da nur nicht Röslis grosse Neugier auf die modernen Medien wäre. \nUnd dann hat Willi auch noch was vergessen. Aber was den bloss? Mit all seinen Ungeschicklichkeiten versucht er herauszufinden\, auf was Rösli wartet\, bis… wie diese Geschichte weitergeht könnt Ihr hier anschauen.
URL:https://clownwilli.ch/event/willi-und-roesli-kabelsalat-7/
LOCATION:Stadthaus Ulm\, Münsterplatz 50\, Ulm\, 89073\, Deutschland
ATTACH;FMTTYPE=image/jpeg:https://clownwilli.ch/wp-content/uploads/2018/12/Inserat-Ulm.jpeg
END:VEVENT
END:VCALENDAR