BEGIN:VCALENDAR
VERSION:2.0
PRODID:-//Clown Willi - ECPv5.2.1.1//NONSGML v1.0//EN
CALSCALE:GREGORIAN
METHOD:PUBLISH
X-WR-CALNAME:Clown Willi
X-ORIGINAL-URL:https://clownwilli.ch
X-WR-CALDESC:Veranstaltungen für Clown Willi
BEGIN:VTIMEZONE
TZID:Europe/Helsinki
BEGIN:DAYLIGHT
TZOFFSETFROM:+0200
TZOFFSETTO:+0300
TZNAME:EEST
DTSTART:20190331T010000
END:DAYLIGHT
BEGIN:STANDARD
TZOFFSETFROM:+0300
TZOFFSETTO:+0200
TZNAME:EET
DTSTART:20191027T010000
END:STANDARD
END:VTIMEZONE
BEGIN:VEVENT
DTSTART;TZID=Europe/Helsinki:20191005T150000
DTEND;TZID=Europe/Helsinki:20191005T160000
DTSTAMP:20260421T182909
CREATED:20190308T224644Z
LAST-MODIFIED:20190902T171822Z
UID:748-1570287600-1570291200@clownwilli.ch
SUMMARY:Willi und seine Prinzessin
DESCRIPTION:Nach dem grossartigen Erfolg noch einmal auf der Bühne
URL:https://clownwilli.ch/event/willi-und-roesli-kabelsalat-9/
LOCATION:Dansarts Ulm\, Willy-Brandt-Platz 1\, Ulm\, 89073\, Deutschland
ATTACH;FMTTYPE=image/jpeg:https://clownwilli.ch/wp-content/uploads/2018/04/IMG_5215.jpg
END:VEVENT
END:VCALENDAR