BEGIN:VCALENDAR
VERSION:2.0
PRODID:-//Clown Willi - ECPv5.2.1.1//NONSGML v1.0//EN
CALSCALE:GREGORIAN
METHOD:PUBLISH
X-WR-CALNAME:Clown Willi
X-ORIGINAL-URL:https://clownwilli.ch
X-WR-CALDESC:Veranstaltungen für Clown Willi
BEGIN:VTIMEZONE
TZID:Europe/Helsinki
BEGIN:DAYLIGHT
TZOFFSETFROM:+0200
TZOFFSETTO:+0300
TZNAME:EEST
DTSTART:20200329T010000
END:DAYLIGHT
BEGIN:STANDARD
TZOFFSETFROM:+0300
TZOFFSETTO:+0200
TZNAME:EET
DTSTART:20201025T010000
END:STANDARD
END:VTIMEZONE
BEGIN:VEVENT
DTSTART;TZID=Europe/Helsinki:20200310T190000
DTEND;TZID=Europe/Helsinki:20200310T220000
DTSTAMP:20260421T181437
CREATED:20190902T172736Z
LAST-MODIFIED:20190902T172736Z
UID:868-1583866800-1583877600@clownwilli.ch
SUMMARY:Willi und Rösli on Tour
DESCRIPTION:Bei der Frauengesellschaft Goldach
URL:https://clownwilli.ch/event/willi-und-roesli-on-tour/
LOCATION:Goldach\, St.Gallen\, 9403\, Schweiz
ATTACH;FMTTYPE=image/jpeg:https://clownwilli.ch/wp-content/uploads/2018/04/16522231_1226078200801824_629446440_o.jpg
END:VEVENT
END:VCALENDAR