BEGIN:VCALENDAR
VERSION:2.0
PRODID:-//Clown Willi - ECPv5.2.1.1//NONSGML v1.0//EN
CALSCALE:GREGORIAN
METHOD:PUBLISH
X-WR-CALNAME:Clown Willi
X-ORIGINAL-URL:https://clownwilli.ch
X-WR-CALDESC:Veranstaltungen für Clown Willi
BEGIN:VTIMEZONE
TZID:UTC
BEGIN:STANDARD
TZOFFSETFROM:+0000
TZOFFSETTO:+0000
TZNAME:UTC
DTSTART:20180101T000000
END:STANDARD
END:VTIMEZONE
BEGIN:VEVENT
DTSTART;TZID=UTC:20180609T150000
DTEND;TZID=UTC:20180609T163000
DTSTAMP:20260421T231449
CREATED:20180416T155235Z
LAST-MODIFIED:20180416T161801Z
UID:229-1528556400-1528561800@clownwilli.ch
SUMMARY:Willi und seine Pirnzessin in Uznach
DESCRIPTION:Kulturcontainer 150 Jahr KB St.Gallen
URL:https://clownwilli.ch/event/willi-und-seine-pirnzessin/
LOCATION:Parkplatz Benknerstrasse\, Uznach\, 8730\, Schweiz
ATTACH;FMTTYPE=image/jpeg:https://clownwilli.ch/wp-content/uploads/2018/04/IMG_5215.jpg
END:VEVENT
END:VCALENDAR